Package: BumpyMatrix Version: 1.8.0 Command: /Library/Frameworks/R.framework/Resources/bin/R CMD check --install=check:BumpyMatrix.install-out.txt --library=/Library/Frameworks/R.framework/Resources/library --no-vignettes --timings BumpyMatrix_1.8.0.tar.gz StartedAt: 2023-10-15 23:21:09 -0400 (Sun, 15 Oct 2023) EndedAt: 2023-10-15 23:25:25 -0400 (Sun, 15 Oct 2023) EllapsedTime: 256.1 seconds RetCode: 0 Status: OK CheckDir: BumpyMatrix.Rcheck Warnings: 0