Package: BufferedMatrixMethods Version: 1.64.0 Command: chmod a+r BufferedMatrixMethods -R && F:\biocbuild\bbs-3.17-bioc\R\bin\R.exe CMD build --keep-empty-dirs --no-resave-data BufferedMatrixMethods StartedAt: 2023-10-15 17:51:22 -0400 (Sun, 15 Oct 2023) EndedAt: 2023-10-15 17:51:23 -0400 (Sun, 15 Oct 2023) EllapsedTime: 1.0 seconds RetCode: 0 Status: OK PackageFile: BufferedMatrixMethods_1.64.0.tar.gz PackageFileSize: 10.83 KiB