Package: BufferedMatrixMethods Version: 1.64.0 Command: rm -rf BufferedMatrixMethods.buildbin-libdir && mkdir BufferedMatrixMethods.buildbin-libdir && F:\biocbuild\bbs-3.17-bioc\R\bin\R.exe CMD INSTALL --build --library=BufferedMatrixMethods.buildbin-libdir BufferedMatrixMethods_1.64.0.tar.gz StartedAt: 2023-10-16 08:31:06 -0400 (Mon, 16 Oct 2023) EndedAt: 2023-10-16 08:31:14 -0400 (Mon, 16 Oct 2023) EllapsedTime: 7.3 seconds RetCode: 0 Status: OK PackageFile: BufferedMatrixMethods_1.64.0.zip PackageFileSize: 52.46 KiB