Package: BufferedMatrixMethods Version: 1.64.0 Command: rm -rf BufferedMatrixMethods.buildbin-libdir && mkdir BufferedMatrixMethods.buildbin-libdir && /Users/biocbuild/BBS/utils/build-universal.sh BufferedMatrixMethods_1.64.0.tar.gz /Library/Frameworks/R.framework/Resources/bin/R BufferedMatrixMethods.buildbin-libdir StartedAt: 2023-10-16 09:04:19 -0400 (Mon, 16 Oct 2023) EndedAt: 2023-10-16 09:04:30 -0400 (Mon, 16 Oct 2023) EllapsedTime: 10.7 seconds RetCode: 0 Status: OK PackageFile: BufferedMatrixMethods_1.64.0.tgz PackageFileSize: 52.97 KiB