Package: BufferedMatrix Version: 1.64.0 Command: F:\biocbuild\bbs-3.17-bioc\R\bin\R.exe CMD INSTALL BufferedMatrix StartedAt: 2023-10-15 15:47:22 -0400 (Sun, 15 Oct 2023) EndedAt: 2023-10-15 15:47:47 -0400 (Sun, 15 Oct 2023) EllapsedTime: 24.4 seconds RetCode: 0 Status: OK