Package: BufferedMatrix Version: 1.64.0 Command: /Library/Frameworks/R.framework/Resources/bin/R CMD check --install=check:BufferedMatrix.install-out.txt --library=/Library/Frameworks/R.framework/Resources/library --no-vignettes --timings BufferedMatrix_1.64.0.tar.gz StartedAt: 2023-10-15 23:18:58 -0400 (Sun, 15 Oct 2023) EndedAt: 2023-10-15 23:20:23 -0400 (Sun, 15 Oct 2023) EllapsedTime: 85.7 seconds RetCode: 0 Status: WARNINGS CheckDir: BufferedMatrix.Rcheck Warnings: 1