Package: BubbleTree Version: 2.30.0 Command: /home/biocbuild/bbs-3.17-bioc/R/bin/R CMD INSTALL BubbleTree StartedAt: 2023-10-15 15:28:51 -0400 (Sun, 15 Oct 2023) EndedAt: 2023-10-15 15:29:40 -0400 (Sun, 15 Oct 2023) EllapsedTime: 49.2 seconds RetCode: 0 Status: OK