Package: BubbleTree Version: 2.30.0 Command: /Library/Frameworks/R.framework/Resources/bin/R CMD INSTALL BubbleTree StartedAt: 2023-10-15 15:49:44 -0400 (Sun, 15 Oct 2023) EndedAt: 2023-10-15 15:52:19 -0400 (Sun, 15 Oct 2023) EllapsedTime: 155.5 seconds RetCode: 0 Status: OK