Package: BubbleTree Version: 2.30.0 Command: rm -rf BubbleTree.buildbin-libdir && mkdir BubbleTree.buildbin-libdir && /Users/biocbuild/BBS/utils/build-universal.sh BubbleTree_2.30.0.tar.gz /Library/Frameworks/R.framework/Resources/bin/R BubbleTree.buildbin-libdir StartedAt: 2023-10-16 09:04:08 -0400 (Mon, 16 Oct 2023) EndedAt: 2023-10-16 09:07:07 -0400 (Mon, 16 Oct 2023) EllapsedTime: 179.2 seconds RetCode: 0 Status: OK PackageFile: BubbleTree_2.30.0.tgz PackageFileSize: 27.49 MiB