Package: BrowserViz Version: 2.22.0 Command: /home/biocbuild/bbs-3.17-bioc/R/bin/R CMD check --install=check:BrowserViz.install-out.txt --library=/home/biocbuild/bbs-3.17-bioc/R/site-library --timings BrowserViz_2.22.0.tar.gz StartedAt: 2023-10-15 19:44:41 -0400 (Sun, 15 Oct 2023) EndedAt: 2023-10-15 19:45:08 -0400 (Sun, 15 Oct 2023) EllapsedTime: 26.4 seconds RetCode: 0 Status: OK CheckDir: BrowserViz.Rcheck Warnings: 0