Package: BridgeDbR Version: 2.10.2 Command: chmod a+r BridgeDbR -R && F:\biocbuild\bbs-3.17-bioc\R\bin\R.exe CMD build --keep-empty-dirs --no-resave-data BridgeDbR StartedAt: 2023-10-15 17:50:22 -0400 (Sun, 15 Oct 2023) EndedAt: 2023-10-15 17:50:34 -0400 (Sun, 15 Oct 2023) EllapsedTime: 11.2 seconds RetCode: 0 Status: OK PackageFile: BridgeDbR_2.10.2.tar.gz PackageFileSize: 4.615 MiB