Package: BridgeDbR Version: 2.10.2 Command: rm -rf BridgeDbR.buildbin-libdir && mkdir BridgeDbR.buildbin-libdir && F:\biocbuild\bbs-3.17-bioc\R\bin\R.exe CMD INSTALL --build --library=BridgeDbR.buildbin-libdir BridgeDbR_2.10.2.tar.gz StartedAt: 2023-10-16 08:30:49 -0400 (Mon, 16 Oct 2023) EndedAt: 2023-10-16 08:30:58 -0400 (Mon, 16 Oct 2023) EllapsedTime: 8.2 seconds RetCode: 0 Status: OK PackageFile: BridgeDbR_2.10.2.zip PackageFileSize: 4.58 MiB