Package: BridgeDbR Version: 2.10.2 Command: /home/biocbuild/bbs-3.17-bioc/R/bin/R CMD check --install=check:BridgeDbR.install-out.txt --library=/home/biocbuild/bbs-3.17-bioc/R/site-library --timings BridgeDbR_2.10.2.tar.gz StartedAt: 2023-10-15 19:44:38 -0400 (Sun, 15 Oct 2023) EndedAt: 2023-10-15 19:45:06 -0400 (Sun, 15 Oct 2023) EllapsedTime: 28.3 seconds RetCode: 0 Status: OK CheckDir: BridgeDbR.Rcheck Warnings: 0