Package: BridgeDbR Version: 2.10.2 Command: /home/biocbuild/bbs-3.17-bioc/R/bin/R CMD build --keep-empty-dirs --no-resave-data BridgeDbR StartedAt: 2023-10-15 16:09:38 -0400 (Sun, 15 Oct 2023) EndedAt: 2023-10-15 16:09:44 -0400 (Sun, 15 Oct 2023) EllapsedTime: 6.0 seconds RetCode: 0 Status: OK PackageFile: BridgeDbR_2.10.2.tar.gz PackageFileSize: 4.615 MiB