Package: BridgeDbR Version: 2.10.2 Command: rm -rf BridgeDbR.buildbin-libdir && mkdir BridgeDbR.buildbin-libdir && /Users/biocbuild/BBS/utils/build-universal.sh BridgeDbR_2.10.2.tar.gz /Library/Frameworks/R.framework/Resources/bin/R BridgeDbR.buildbin-libdir StartedAt: 2023-10-16 09:03:51 -0400 (Mon, 16 Oct 2023) EndedAt: 2023-10-16 09:04:03 -0400 (Mon, 16 Oct 2023) EllapsedTime: 12.5 seconds RetCode: 0 Status: OK PackageFile: BridgeDbR_2.10.2.tgz PackageFileSize: 4.579 MiB