Package: BloodGen3Module Version: 1.8.0 Command: F:\biocbuild\bbs-3.17-bioc\R\bin\R.exe CMD check --no-multiarch --install=check:BloodGen3Module.install-out.txt --library=F:\biocbuild\bbs-3.17-bioc\R\library --no-vignettes --timings BloodGen3Module_1.8.0.tar.gz StartedAt: 2023-10-16 00:04:06 -0400 (Mon, 16 Oct 2023) EndedAt: 2023-10-16 00:09:52 -0400 (Mon, 16 Oct 2023) EllapsedTime: 346.8 seconds RetCode: 0 Status: WARNINGS CheckDir: BloodGen3Module.Rcheck Warnings: 1