Package: BloodGen3Module Version: 1.8.0 Command: /home/biocbuild/bbs-3.17-bioc/R/bin/R CMD build --keep-empty-dirs --no-resave-data BloodGen3Module StartedAt: 2023-10-15 16:08:11 -0400 (Sun, 15 Oct 2023) EndedAt: 2023-10-15 16:09:20 -0400 (Sun, 15 Oct 2023) EllapsedTime: 69.1 seconds RetCode: 0 Status: OK PackageFile: BloodGen3Module_1.8.0.tar.gz PackageFileSize: 178.7 KiB