Package: Biostrings Version: 2.68.1 Command: F:\biocbuild\bbs-3.17-bioc\R\bin\R.exe CMD INSTALL Biostrings StartedAt: 2023-10-15 15:54:23 -0400 (Sun, 15 Oct 2023) EndedAt: 2023-10-15 15:55:36 -0400 (Sun, 15 Oct 2023) EllapsedTime: 73.4 seconds RetCode: 0 Status: OK