Package: Biostrings Version: 2.68.1 Command: F:\biocbuild\bbs-3.17-bioc\R\bin\R.exe CMD check --no-multiarch --install=check:Biostrings.install-out.txt --library=F:\biocbuild\bbs-3.17-bioc\R\library --no-vignettes --timings Biostrings_2.68.1.tar.gz StartedAt: 2023-10-16 00:00:46 -0400 (Mon, 16 Oct 2023) EndedAt: 2023-10-16 00:10:29 -0400 (Mon, 16 Oct 2023) EllapsedTime: 582.8 seconds RetCode: 0 Status: WARNINGS CheckDir: Biostrings.Rcheck Warnings: 3