Package: Biostrings Version: 2.68.1 Command: chmod a+r Biostrings -R && F:\biocbuild\bbs-3.17-bioc\R\bin\R.exe CMD build --keep-empty-dirs --no-resave-data Biostrings StartedAt: 2023-10-15 17:45:37 -0400 (Sun, 15 Oct 2023) EndedAt: 2023-10-15 17:48:26 -0400 (Sun, 15 Oct 2023) EllapsedTime: 169.4 seconds RetCode: 0 Status: OK PackageFile: Biostrings_2.68.1.tar.gz PackageFileSize: 11.85 MiB