Package: Biostrings Version: 2.68.1 Command: rm -rf Biostrings.buildbin-libdir && mkdir Biostrings.buildbin-libdir && F:\biocbuild\bbs-3.17-bioc\R\bin\R.exe CMD INSTALL --build --library=Biostrings.buildbin-libdir Biostrings_2.68.1.tar.gz StartedAt: 2023-10-16 08:29:46 -0400 (Mon, 16 Oct 2023) EndedAt: 2023-10-16 08:31:07 -0400 (Mon, 16 Oct 2023) EllapsedTime: 81.3 seconds RetCode: 0 Status: OK PackageFile: Biostrings_2.68.1.zip PackageFileSize: 13.28 MiB