Package: Biostrings Version: 2.68.1 Command: /Library/Frameworks/R.framework/Resources/bin/R CMD check --install=check:Biostrings.install-out.txt --library=/Library/Frameworks/R.framework/Resources/library --no-vignettes --timings Biostrings_2.68.1.tar.gz StartedAt: 2023-10-15 23:10:44 -0400 (Sun, 15 Oct 2023) EndedAt: 2023-10-15 23:30:20 -0400 (Sun, 15 Oct 2023) EllapsedTime: 1176.4 seconds RetCode: 0 Status: WARNINGS CheckDir: Biostrings.Rcheck Warnings: 2