Package: Biostrings Version: 2.68.1 Command: rm -rf Biostrings.buildbin-libdir && mkdir Biostrings.buildbin-libdir && /Users/biocbuild/BBS/utils/build-universal.sh Biostrings_2.68.1.tar.gz /Library/Frameworks/R.framework/Resources/bin/R Biostrings.buildbin-libdir StartedAt: 2023-10-16 09:02:54 -0400 (Mon, 16 Oct 2023) EndedAt: 2023-10-16 09:05:00 -0400 (Mon, 16 Oct 2023) EllapsedTime: 126.3 seconds RetCode: 0 Status: OK PackageFile: Biostrings_2.68.1.tgz PackageFileSize: 13.66 MiB