Package: BiocWorkflowTools Version: 1.26.0 Command: chmod a+r BiocWorkflowTools -R && F:\biocbuild\bbs-3.17-bioc\R\bin\R.exe CMD build --keep-empty-dirs --no-resave-data BiocWorkflowTools StartedAt: 2023-10-15 17:41:23 -0400 (Sun, 15 Oct 2023) EndedAt: 2023-10-15 17:42:32 -0400 (Sun, 15 Oct 2023) EllapsedTime: 68.9 seconds RetCode: 0 Status: OK PackageFile: BiocWorkflowTools_1.26.0.tar.gz PackageFileSize: 974.8 KiB