Package: BiocWorkflowTools Version: 1.26.0 Command: /Library/Frameworks/R.framework/Resources/bin/R CMD INSTALL BiocWorkflowTools StartedAt: 2023-10-15 15:48:04 -0400 (Sun, 15 Oct 2023) EndedAt: 2023-10-15 15:48:15 -0400 (Sun, 15 Oct 2023) EllapsedTime: 10.6 seconds RetCode: 0 Status: OK