Package: BiocWorkflowTools Version: 1.26.0 Command: /Library/Frameworks/R.framework/Resources/bin/R CMD build --keep-empty-dirs --no-resave-data BiocWorkflowTools StartedAt: 2023-10-15 17:01:06 -0400 (Sun, 15 Oct 2023) EndedAt: 2023-10-15 17:01:21 -0400 (Sun, 15 Oct 2023) EllapsedTime: 15.0 seconds RetCode: 0 Status: OK PackageFile: BiocWorkflowTools_1.26.0.tar.gz PackageFileSize: 974.8 KiB