Package: BiocVersion Version: 3.17.1 Command: F:\biocbuild\bbs-3.17-bioc\R\bin\R.exe CMD INSTALL BiocVersion StartedAt: 2023-10-15 15:48:13 -0400 (Sun, 15 Oct 2023) EndedAt: 2023-10-15 15:48:24 -0400 (Sun, 15 Oct 2023) EllapsedTime: 11.5 seconds RetCode: 0 Status: OK