Package: BiocVersion Version: 3.17.1 Command: chmod a+r BiocVersion -R && F:\biocbuild\bbs-3.17-bioc\R\bin\R.exe CMD build --keep-empty-dirs --no-resave-data BiocVersion StartedAt: 2023-10-15 17:41:11 -0400 (Sun, 15 Oct 2023) EndedAt: 2023-10-15 17:41:16 -0400 (Sun, 15 Oct 2023) EllapsedTime: 5.0 seconds RetCode: 0 Status: OK PackageFile: BiocVersion_3.17.1.tar.gz PackageFileSize: 982 bytes