Package: BiocVersion Version: 3.17.1 Command: rm -rf BiocVersion.buildbin-libdir && mkdir BiocVersion.buildbin-libdir && F:\biocbuild\bbs-3.17-bioc\R\bin\R.exe CMD INSTALL --build --library=BiocVersion.buildbin-libdir BiocVersion_3.17.1.tar.gz StartedAt: 2023-10-16 08:29:11 -0400 (Mon, 16 Oct 2023) EndedAt: 2023-10-16 08:29:15 -0400 (Mon, 16 Oct 2023) EllapsedTime: 3.2 seconds RetCode: 0 Status: OK PackageFile: BiocVersion_3.17.1.zip PackageFileSize: 8.13 KiB