Package: BiocVersion Version: 3.17.1 Command: /home/biocbuild/bbs-3.17-bioc/R/bin/R CMD check --install=check:BiocVersion.install-out.txt --library=/home/biocbuild/bbs-3.17-bioc/R/site-library --timings BiocVersion_3.17.1.tar.gz StartedAt: 2023-10-15 19:34:55 -0400 (Sun, 15 Oct 2023) EndedAt: 2023-10-15 19:35:05 -0400 (Sun, 15 Oct 2023) EllapsedTime: 9.7 seconds RetCode: 0 Status: OK CheckDir: BiocVersion.Rcheck Warnings: 0