Package: BiocStyle Version: 2.28.1 Command: F:\biocbuild\bbs-3.17-bioc\R\bin\R.exe CMD INSTALL BiocStyle StartedAt: 2023-10-15 16:25:54 -0400 (Sun, 15 Oct 2023) EndedAt: 2023-10-15 16:26:00 -0400 (Sun, 15 Oct 2023) EllapsedTime: 6.8 seconds RetCode: 0 Status: OK