Package: BiocStyle Version: 2.28.1 Command: chmod a+r BiocStyle -R && F:\biocbuild\bbs-3.17-bioc\R\bin\R.exe CMD build --keep-empty-dirs --no-resave-data BiocStyle StartedAt: 2023-10-15 17:40:18 -0400 (Sun, 15 Oct 2023) EndedAt: 2023-10-15 17:41:58 -0400 (Sun, 15 Oct 2023) EllapsedTime: 100.3 seconds RetCode: 0 Status: OK PackageFile: BiocStyle_2.28.1.tar.gz PackageFileSize: 710.3 KiB