Package: BiocStyle Version: 2.28.1 Command: rm -rf BiocStyle.buildbin-libdir && mkdir BiocStyle.buildbin-libdir && F:\biocbuild\bbs-3.17-bioc\R\bin\R.exe CMD INSTALL --build --library=BiocStyle.buildbin-libdir BiocStyle_2.28.1.tar.gz StartedAt: 2023-10-16 08:29:08 -0400 (Mon, 16 Oct 2023) EndedAt: 2023-10-16 08:29:16 -0400 (Mon, 16 Oct 2023) EllapsedTime: 8.2 seconds RetCode: 0 Status: OK PackageFile: BiocStyle_2.28.1.zip PackageFileSize: 792.7 KiB