Package: BiocStyle Version: 2.28.1 Command: /home/biocbuild/bbs-3.17-bioc/R/bin/R CMD INSTALL BiocStyle StartedAt: 2023-10-15 15:28:44 -0400 (Sun, 15 Oct 2023) EndedAt: 2023-10-15 15:28:48 -0400 (Sun, 15 Oct 2023) EllapsedTime: 3.9 seconds RetCode: 0 Status: OK