Package: BiocStyle Version: 2.28.1 Command: /home/biocbuild/bbs-3.17-bioc/R/bin/R CMD check --install=check:BiocStyle.install-out.txt --library=/home/biocbuild/bbs-3.17-bioc/R/site-library --timings BiocStyle_2.28.1.tar.gz StartedAt: 2023-10-15 19:34:10 -0400 (Sun, 15 Oct 2023) EndedAt: 2023-10-15 19:34:55 -0400 (Sun, 15 Oct 2023) EllapsedTime: 44.7 seconds RetCode: 0 Status: OK CheckDir: BiocStyle.Rcheck Warnings: 0