Package: BiocStyle Version: 2.28.1 Command: /home/biocbuild/bbs-3.17-bioc/R/bin/R CMD build --keep-empty-dirs --no-resave-data BiocStyle StartedAt: 2023-10-15 16:05:09 -0400 (Sun, 15 Oct 2023) EndedAt: 2023-10-15 16:05:19 -0400 (Sun, 15 Oct 2023) EllapsedTime: 10.0 seconds RetCode: 0 Status: OK PackageFile: BiocStyle_2.28.1.tar.gz PackageFileSize: 769.5 KiB