Package: BiocStyle Version: 2.28.1 Command: /Library/Frameworks/R.framework/Resources/bin/R CMD build --keep-empty-dirs --no-resave-data BiocStyle StartedAt: 2023-10-15 17:00:23 -0400 (Sun, 15 Oct 2023) EndedAt: 2023-10-15 17:01:05 -0400 (Sun, 15 Oct 2023) EllapsedTime: 41.9 seconds RetCode: 0 Status: OK PackageFile: BiocStyle_2.28.1.tar.gz PackageFileSize: 772.9 KiB