Package: BiocStyle Version: 2.28.1 Command: rm -rf BiocStyle.buildbin-libdir && mkdir BiocStyle.buildbin-libdir && /Users/biocbuild/BBS/utils/build-universal.sh BiocStyle_2.28.1.tar.gz /Library/Frameworks/R.framework/Resources/bin/R BiocStyle.buildbin-libdir StartedAt: 2023-10-16 09:02:18 -0400 (Mon, 16 Oct 2023) EndedAt: 2023-10-16 09:02:30 -0400 (Mon, 16 Oct 2023) EllapsedTime: 11.9 seconds RetCode: 0 Status: OK PackageFile: BiocStyle_2.28.1.tgz PackageFileSize: 832 KiB