git_url: https://git.bioconductor.org/packages/BiocStyle git_branch: RELEASE_3_17 git_last_commit: 8fbdf7a git_last_commit_date: 2023-09-14 10:37:31 -0400 (Thu, 14 Sep 2023) Package: BiocStyle Version: 2.28.1 Maintainer: Bioconductor Package MaintainerEmail: maintainer at bioconductor.org