Package: BiocSingular Version: 1.16.0 Command: /home/biocbuild/bbs-3.17-bioc/R/bin/R CMD check --install=check:BiocSingular.install-out.txt --library=/home/biocbuild/bbs-3.17-bioc/R/site-library --timings BiocSingular_1.16.0.tar.gz StartedAt: 2023-10-15 19:33:51 -0400 (Sun, 15 Oct 2023) EndedAt: 2023-10-15 19:37:18 -0400 (Sun, 15 Oct 2023) EllapsedTime: 207.5 seconds RetCode: 0 Status: WARNINGS CheckDir: BiocSingular.Rcheck Warnings: 1