Package: BiocSingular Version: 1.16.0 Command: /Library/Frameworks/R.framework/Resources/bin/R CMD INSTALL BiocSingular StartedAt: 2023-10-15 16:14:17 -0400 (Sun, 15 Oct 2023) EndedAt: 2023-10-15 16:15:46 -0400 (Sun, 15 Oct 2023) EllapsedTime: 89.8 seconds RetCode: 0 Status: OK