Package: BiocSet Version: 1.14.0 Command: F:\biocbuild\bbs-3.17-bioc\R\bin\R.exe CMD INSTALL BiocSet StartedAt: 2023-10-15 16:07:09 -0400 (Sun, 15 Oct 2023) EndedAt: 2023-10-15 16:07:32 -0400 (Sun, 15 Oct 2023) EllapsedTime: 23.4 seconds RetCode: 0 Status: OK