Package: BiocSet Version: 1.14.0 Command: F:\biocbuild\bbs-3.17-bioc\R\bin\R.exe CMD check --no-multiarch --install=check:BiocSet.install-out.txt --library=F:\biocbuild\bbs-3.17-bioc\R\library --no-vignettes --timings BiocSet_1.14.0.tar.gz StartedAt: 2023-10-15 23:55:18 -0400 (Sun, 15 Oct 2023) EndedAt: 2023-10-16 00:00:01 -0400 (Mon, 16 Oct 2023) EllapsedTime: 282.9 seconds RetCode: 0 Status: OK CheckDir: BiocSet.Rcheck Warnings: 0