Package: BiocSet Version: 1.14.0 Command: chmod a+r BiocSet -R && F:\biocbuild\bbs-3.17-bioc\R\bin\R.exe CMD build --keep-empty-dirs --no-resave-data BiocSet StartedAt: 2023-10-15 17:39:08 -0400 (Sun, 15 Oct 2023) EndedAt: 2023-10-15 17:46:10 -0400 (Sun, 15 Oct 2023) EllapsedTime: 422.4 seconds RetCode: 0 Status: OK PackageFile: BiocSet_1.14.0.tar.gz PackageFileSize: 359.4 KiB