Package: BiocSet Version: 1.14.0 Command: rm -rf BiocSet.buildbin-libdir && mkdir BiocSet.buildbin-libdir && F:\biocbuild\bbs-3.17-bioc\R\bin\R.exe CMD INSTALL --build --library=BiocSet.buildbin-libdir BiocSet_1.14.0.tar.gz StartedAt: 2023-10-16 08:29:03 -0400 (Mon, 16 Oct 2023) EndedAt: 2023-10-16 08:29:32 -0400 (Mon, 16 Oct 2023) EllapsedTime: 28.9 seconds RetCode: 0 Status: OK PackageFile: BiocSet_1.14.0.zip PackageFileSize: 789.3 KiB