Package: BiocSet Version: 1.14.0 Command: /home/biocbuild/bbs-3.17-bioc/R/bin/R CMD build --keep-empty-dirs --no-resave-data BiocSet StartedAt: 2023-10-15 16:04:58 -0400 (Sun, 15 Oct 2023) EndedAt: 2023-10-15 16:06:51 -0400 (Sun, 15 Oct 2023) EllapsedTime: 112.6 seconds RetCode: 0 Status: OK PackageFile: BiocSet_1.14.0.tar.gz PackageFileSize: 359 KiB