Package: BiocSet Version: 1.14.0 Command: /Library/Frameworks/R.framework/Resources/bin/R CMD INSTALL BiocSet StartedAt: 2023-10-15 15:24:05 -0400 (Sun, 15 Oct 2023) EndedAt: 2023-10-15 15:24:56 -0400 (Sun, 15 Oct 2023) EllapsedTime: 51.2 seconds RetCode: 0 Status: OK