Package: BiocSet Version: 1.14.0 Command: /Library/Frameworks/R.framework/Resources/bin/R CMD check --install=check:BiocSet.install-out.txt --library=/Library/Frameworks/R.framework/Resources/library --no-vignettes --timings BiocSet_1.14.0.tar.gz StartedAt: 2023-10-15 23:03:59 -0400 (Sun, 15 Oct 2023) EndedAt: 2023-10-15 23:15:24 -0400 (Sun, 15 Oct 2023) EllapsedTime: 684.8 seconds RetCode: 0 Status: OK CheckDir: BiocSet.Rcheck Warnings: 0