Package: BiocSet Version: 1.14.0 Command: rm -rf BiocSet.buildbin-libdir && mkdir BiocSet.buildbin-libdir && /Users/biocbuild/BBS/utils/build-universal.sh BiocSet_1.14.0.tar.gz /Library/Frameworks/R.framework/Resources/bin/R BiocSet.buildbin-libdir StartedAt: 2023-10-16 09:02:12 -0400 (Mon, 16 Oct 2023) EndedAt: 2023-10-16 09:03:14 -0400 (Mon, 16 Oct 2023) EllapsedTime: 62.2 seconds RetCode: 0 Status: OK PackageFile: BiocSet_1.14.0.tgz PackageFileSize: 785.2 KiB