Package: BiocPkgTools Version: 1.18.1 Command: F:\biocbuild\bbs-3.17-bioc\R\bin\R.exe CMD check --no-multiarch --install=check:BiocPkgTools.install-out.txt --library=F:\biocbuild\bbs-3.17-bioc\R\library --no-vignettes --timings BiocPkgTools_1.18.1.tar.gz StartedAt: 2023-10-15 23:55:16 -0400 (Sun, 15 Oct 2023) EndedAt: 2023-10-16 00:04:28 -0400 (Mon, 16 Oct 2023) EllapsedTime: 551.5 seconds RetCode: 0 Status: WARNINGS CheckDir: BiocPkgTools.Rcheck Warnings: 1